BEGIN:VCALENDAR
VERSION:2.0
PRODID:-//Advanced Weight Loss Center - ECPv5.10.0//NONSGML v1.0//EN
CALSCALE:GREGORIAN
METHOD:PUBLISH
X-WR-CALNAME:Advanced Weight Loss Center
X-ORIGINAL-URL:https://advancedweightlossip.com
X-WR-CALDESC:Events for Advanced Weight Loss Center
BEGIN:VTIMEZONE
TZID:UTC
BEGIN:STANDARD
TZOFFSETFROM:+0000
TZOFFSETTO:+0000
TZNAME:UTC
DTSTART:20170101T000000
END:STANDARD
END:VTIMEZONE
BEGIN:VEVENT
DTSTART;VALUE=DATE:20170703
DTEND;VALUE=DATE:20170704
DTSTAMP:20260420T132838
CREATED:20170619T212935Z
LAST-MODIFIED:20170619T212935Z
UID:5038-1499040000-1499126399@advancedweightlossip.com
SUMMARY:CLOSED in observance of Independence Day!!!!
DESCRIPTION:
URL:https://advancedweightlossip.com/event/closed-in-observance-of-independence-day/
END:VEVENT
END:VCALENDAR